BEGIN:VCALENDAR
VERSION:2.0
PRODID:-//Berlin Guide Gesundheit - ECPv5.14.2.1//NONSGML v1.0//EN
CALSCALE:GREGORIAN
METHOD:PUBLISH
X-WR-CALNAME:Berlin Guide Gesundheit
X-ORIGINAL-URL:https://www.berlin-guide-gesundheit.de
X-WR-CALDESC:Veranstaltungen für Berlin Guide Gesundheit
BEGIN:VTIMEZONE
TZID:Europe/Berlin
BEGIN:DAYLIGHT
TZOFFSETFROM:+0100
TZOFFSETTO:+0200
TZNAME:CEST
DTSTART:20210328T010000
END:DAYLIGHT
BEGIN:STANDARD
TZOFFSETFROM:+0200
TZOFFSETTO:+0100
TZNAME:CET
DTSTART:20211031T010000
END:STANDARD
END:VTIMEZONE
BEGIN:VEVENT
DTSTART;TZID=Europe/Berlin:20211029T180000
DTEND;TZID=Europe/Berlin:20211029T210000
DTSTAMP:20260420T103206
CREATED:20201204T125115Z
LAST-MODIFIED:20201204T125115Z
UID:22470-1635530400-1635541200@www.berlin-guide-gesundheit.de
SUMMARY:Schnupperworkshop
DESCRIPTION:Intensiver Einblick in die japanische Körperarbeit Shiatsu\nANGEBOT TEILEN VIA MAIL \nDieser Kurs vermittelt Ihnen an einem Abend einen praktischen und sehr intensiven Einblick in die Theorie und die Praxis des (Zen) Shiatsu. Sie erlernen Grundtechniken des Shiatsu und behandeln ihren ersten Meridian. Sie lernen durch die Idee des Ki\, ihre Energie zu spüren und mit ihren eigenen Kräften umzugehen. Wir vermitteln Ihnen Meridianverläufe. Ein Ausflug in die aktuelle Wandlungsphase ist Bestandteil des Kurses. Sie probieren aus\, ob Shiatsu das Richtige für sie ist und ob es Ihnen gut tut es zu geben und zu bekommen. \nDie Gebühr wird Ihnen bei Einstieg in die Ausbildung zu 50% angerechnet. \nHinweis: Huckepackgebühr 50 Euro (Huckepack: bei Anmeldung von 2 Personen)
URL:https://www.berlin-guide-gesundheit.de/termin/schnupperworkshop-3/
LOCATION:ESI Berlin\, Bizetstr. 41\, Berlin\, Berlin\, 13088\, Deutschland
CATEGORIES:Shiatsu
ORGANIZER;CN="ESI%20Berlin":MAILTO:shiatsu@esi-shiatsu.de
END:VEVENT
END:VCALENDAR