BEGIN:VCALENDAR
VERSION:2.0
PRODID:-//Berlin Guide Gesundheit - ECPv5.14.2.1//NONSGML v1.0//EN
CALSCALE:GREGORIAN
METHOD:PUBLISH
X-WR-CALNAME:Berlin Guide Gesundheit
X-ORIGINAL-URL:https://www.berlin-guide-gesundheit.de
X-WR-CALDESC:Veranstaltungen für Berlin Guide Gesundheit
BEGIN:VTIMEZONE
TZID:Europe/Berlin
BEGIN:DAYLIGHT
TZOFFSETFROM:+0100
TZOFFSETTO:+0200
TZNAME:CEST
DTSTART:20190331T010000
END:DAYLIGHT
BEGIN:STANDARD
TZOFFSETFROM:+0200
TZOFFSETTO:+0100
TZNAME:CET
DTSTART:20191027T010000
END:STANDARD
END:VTIMEZONE
BEGIN:VEVENT
DTSTART;TZID=Europe/Berlin:20190321T173000
DTEND;TZID=Europe/Berlin:20190321T173000
DTSTAMP:20260424T210818
CREATED:20190311T054224Z
LAST-MODIFIED:20190311T054319Z
UID:20621-1553189400-1553189400@www.berlin-guide-gesundheit.de
SUMMARY:Ostara – Frühjahr Equinox mit der Wildnisschule feiern
DESCRIPTION:Wiederkehrende Feste sind ein wichtiger Bestandteil unseres Lebens. Wir wollen mit Euch und Euren Kindern zusammen Feste feiern\, die unsere Verbindung zur Natur vertiefen und uns die Veränderungen im Jahreskreislauf verdeutlichen (z.B. den Wechsel der Jahreszeiten\, die reifen Früchte in Feld\, Wald und Wiese). Daher wollen wir am 21. März Ostara feiern– die Fühjahrs Tag- und Nachtgleiche und unseren Frühlingsanfang. \nLasst uns bewusst Altes loslassen und verabschieden\, damit wir absichtsvoll in einen neuen Jahresabschnitt mit all seinen Geschenken starten können. \nWir werden zusammen ein kleines Übergansritual gestalten und ein Feuer machen! \nBitte zieht Euch dem Wetter entsprechend an und bringt Euch eine Sitzunterlage mit! \nBei starkem Regen oder Unwetter wird die Veranstaltung leider nicht stattfinden.
URL:https://www.berlin-guide-gesundheit.de/termin/ostara-fruehjahr-equinox-mit-der-wildnisschule-feiern/
LOCATION:Wildnisschule Berlin\, Pankgrafenstraße 12d\, Berlin\, 13125\, Deutschland
END:VEVENT
END:VCALENDAR