BEGIN:VCALENDAR
VERSION:2.0
PRODID:-//Berlin Guide Gesundheit - ECPv5.14.2.1//NONSGML v1.0//EN
CALSCALE:GREGORIAN
METHOD:PUBLISH
X-WR-CALNAME:Berlin Guide Gesundheit
X-ORIGINAL-URL:https://www.berlin-guide-gesundheit.de
X-WR-CALDESC:Veranstaltungen für Berlin Guide Gesundheit
BEGIN:VTIMEZONE
TZID:Europe/Berlin
BEGIN:DAYLIGHT
TZOFFSETFROM:+0100
TZOFFSETTO:+0200
TZNAME:CEST
DTSTART:20190331T010000
END:DAYLIGHT
BEGIN:STANDARD
TZOFFSETFROM:+0200
TZOFFSETTO:+0100
TZNAME:CET
DTSTART:20191027T010000
END:STANDARD
END:VTIMEZONE
BEGIN:VEVENT
DTSTART;TZID=Europe/Berlin:20190317T150000
DTEND;TZID=Europe/Berlin:20190317T203000
DTSTAMP:20260425T013444
CREATED:20190214T112654Z
LAST-MODIFIED:20190306T114047Z
UID:20423-1552834800-1552854600@www.berlin-guide-gesundheit.de
SUMMARY:Ein Tag für meine Tage - Menstruationsworkshops für Mädchen & Frauen mit Petra Hinze
DESCRIPTION:Dieser Tag ist Mädchen und Frauen gewidmet\, denn unsere Blutung ist ganz natürlich und gehört viele Jahre zu uns. Er ist in 3 Teile aufgebaut und Fragen rund um die Menstruation stehen im Mittelpunkt: Körperhygiene & Veränderung\, Hormone\, Mensbeschwerden\, Sexualität und Intimität. \n \nZuerst reden wir über\, was in unserem Körper passiert. Welche Möglichkeiten der Körperhygiene gibt es? Tampon oder Binde? Kann man etwas gegen Bauchschmerzen tun? Wie gehen Mädchen in anderen Ländern und Kulturen damit um? Und andere wichtige Fragen. Dieser Workshop ist speziell für junge Mädchen (ab 9 Jahren) konzipiert und wir freuen uns über die Teilnahme Müttern und Töchtern. \nIm zweiten Teil wollen wir uns mehr mit unserer Sexualität und unserem Körpergefühl auseinandersetzen\, denn oftmals verändert sich viel in in uns mit Beginn unserer Blutung. Finde ich meinen Körper schön? Mag ich Jungs oder Mädchen? \nIm letzten Teil beschäftigen wir uns ausführlicher mit dem weiblichen Zyklus. Wie sieht dieser aus? Was verbirgt sich dahinter? Gemeinsam werden wir die kulturelle Bedeutung erfahren und uns austauschen und stärken. \nDie Länge der Workshops beträgt in der Regel zwischen anderthalb und zwei Stunden.
URL:https://www.berlin-guide-gesundheit.de/termin/ein-tag-fuer-meine-tage-menstruationsworkshops-fuer-maedchen-frauen-mit-petra-hinze/
END:VEVENT
END:VCALENDAR