BEGIN:VCALENDAR
VERSION:2.0
PRODID:-//Berlin Guide Gesundheit - ECPv5.14.2.1//NONSGML v1.0//EN
CALSCALE:GREGORIAN
METHOD:PUBLISH
X-WR-CALNAME:Berlin Guide Gesundheit
X-ORIGINAL-URL:https://www.berlin-guide-gesundheit.de
X-WR-CALDESC:Veranstaltungen für Berlin Guide Gesundheit
BEGIN:VTIMEZONE
TZID:Europe/Berlin
BEGIN:DAYLIGHT
TZOFFSETFROM:+0100
TZOFFSETTO:+0200
TZNAME:CEST
DTSTART:20190331T010000
END:DAYLIGHT
BEGIN:STANDARD
TZOFFSETFROM:+0200
TZOFFSETTO:+0100
TZNAME:CET
DTSTART:20191027T010000
END:STANDARD
END:VTIMEZONE
BEGIN:VEVENT
DTSTART;TZID=Europe/Berlin:20190322T180000
DTEND;TZID=Europe/Berlin:20190324T150000
DTSTAMP:20260424T194122
CREATED:20190225T054250Z
LAST-MODIFIED:20190311T053545Z
UID:20503-1553277600-1553439600@www.berlin-guide-gesundheit.de
SUMMARY:Bushcraft & Wildniswissen Basis mit der Wildnisschule
DESCRIPTION:Dieser Kurs gibt euch erste Einblicke in die praktische Arbeit der Wildnispädagogik und eröffnet das grundlegende praktische Wissen zum Leben und Überleben in und mit der Natur. Er soll euch ermöglichen sich erneut mit der Natur zu verbinden und sich in ihr zu Hause zu fühlen. Er soll euch nachhaltig unterstützen Vertrauen in die eigenen Fähigkeiten wiederzuentdecken\, für ein einfaches (Über-)Leben in Harmonie mit sich Selbst und den natürlichen Lebenszyklen. \n \nWildniswissen Basisthemen sind: \n\nFeuermachen nur mit natürlichen Hilfsmitteln\nKunst des Spurenlesens und der lautlosen Fortbewegung\nBau einer Schutzbehausung ohne Werkzeuge\nRohmaterialkunde\, Herstellung von Schnüren\nSpiele und Geschichtenerzählen (Storytelling)\nNaturbeobachtung und Einstieg in die Philosophie der Erde\nDie Kunst des Fragenstellens (Coyote Mentoring)\n\nDieses Basiswochenende ist kein hartes Survivaltraining und eignet sich stattdessen sehr gut als Schnupperkurs für die Jahresausbildung Wildnispädagogik (kann auf die Ausbildungskosten angerechnet werden). \nZielgruppe:\nDieser Kurs richtet sich an alle Personen die sich selbst\,  Kindern/und anderen Erwachsenen eine tiefe Verbindung zur Natur und den Elementen ermöglichen möchten. \nOrt: \nBerlin Heiligensee \nKosten:\nKursgebühr: 150 €\nUnterbringung und Verpflegung Pauschale (UVP): 60 € \nInklusive Übernachtung im eigenen Zelt und Verpflegung mit biologischer oder regionaler Kost.
URL:https://www.berlin-guide-gesundheit.de/termin/bushcraft-wildniswissen-basis-mit-der-wildnisschule/
LOCATION:Heiligensee
END:VEVENT
END:VCALENDAR