BEGIN:VCALENDAR
VERSION:2.0
PRODID:-//Berlin Guide Gesundheit - ECPv5.14.2.1//NONSGML v1.0//EN
CALSCALE:GREGORIAN
METHOD:PUBLISH
X-WR-CALNAME:Berlin Guide Gesundheit
X-ORIGINAL-URL:https://www.berlin-guide-gesundheit.de
X-WR-CALDESC:Veranstaltungen für Berlin Guide Gesundheit
BEGIN:VTIMEZONE
TZID:Europe/Berlin
BEGIN:DAYLIGHT
TZOFFSETFROM:+0100
TZOFFSETTO:+0200
TZNAME:CEST
DTSTART:20190331T010000
END:DAYLIGHT
BEGIN:STANDARD
TZOFFSETFROM:+0200
TZOFFSETTO:+0100
TZNAME:CET
DTSTART:20191027T010000
END:STANDARD
END:VTIMEZONE
BEGIN:VEVENT
DTSTART;TZID=Europe/Berlin:20190316T100000
DTEND;TZID=Europe/Berlin:20190316T200000
DTSTAMP:20260425T013809
CREATED:20190207T094258Z
LAST-MODIFIED:20190207T095325Z
UID:20333-1552730400-1552766400@www.berlin-guide-gesundheit.de
SUMMARY:AGAPE ZOE Berlin Intensive No. 1
DESCRIPTION:ONE-DAY-RETREAT – LOVINGLY ALIVE \nEine Reise ins Herz unseres menschlichen und kosmischen Wesens.\n \nEin gemeinsamer Tag mit Tanz\, Meditation\, Spiel\, Körperarbeit\, Integraler Heilkunst\, Musik und mehr. Das AGAPE ZOE INTENSIVE bietet die Gelegenheit\, eine kraftvolle und berührende Gruppenerfahrung mit dem liebevollen Erforschen unserer individuellen Wachstumsgrenzen\, Potenziale und Einzigartigkeit zu verbinden. \n \nVerbundenheit & Urvertrauen\, Freiheit & Selbstentfaltung\, Stille & Frieden – das sind die Zutaten für unsere gemeinsame Forschungsreise und den Fluss des Lebens. \nFelix Falkenhahn und sein Team aus Lehrerinnen\, Lebenskünstlern und Musikern laden euch ein mitzubringen\, was euch bewegt\, tief durchzuatmen sowie kreativ\, mutig und „LIEBEVOLL LEBENDIG“ zu sein!
URL:https://www.berlin-guide-gesundheit.de/termin/agape-zoe-berlin-intensive-no-1/
LOCATION:EDEN*****\, Breite Str. 43\, Berlin\, 13187\, Deutschland
ATTACH;FMTTYPE=image/jpeg:https://www.berlin-guide-gesundheit.de/wp-content/uploads/2019/02/AGAPE-BIntensive_FACEBOOK_schmal.jpg
END:VEVENT
END:VCALENDAR